BEGIN:VCALENDAR
VERSION:2.0
PRODID:-//AHEPA Chapter 356 Clearwater - ECPv6.15.20//NONSGML v1.0//EN
CALSCALE:GREGORIAN
METHOD:PUBLISH
X-ORIGINAL-URL:https://ahepa356.org
X-WR-CALDESC:Events for AHEPA Chapter 356 Clearwater
REFRESH-INTERVAL;VALUE=DURATION:PT1H
X-Robots-Tag:noindex
X-PUBLISHED-TTL:PT1H
BEGIN:VTIMEZONE
TZID:UTC
BEGIN:STANDARD
TZOFFSETFROM:+0000
TZOFFSETTO:+0000
TZNAME:UTC
DTSTART:20240101T000000
END:STANDARD
END:VTIMEZONE
BEGIN:VEVENT
DTSTART;TZID=UTC:20250513T190000
DTEND;TZID=UTC:20250513T200000
DTSTAMP:20260422T020352
CREATED:20250508T223341Z
LAST-MODIFIED:20250508T223341Z
UID:25667-1747162800-1747166400@ahepa356.org
SUMMARY:Chapter Meeting
DESCRIPTION:
URL:https://ahepa356.org/event/chapter-meeting-8/
END:VEVENT
BEGIN:VEVENT
DTSTART;VALUE=DATE:20250518
DTEND;VALUE=DATE:20250519
DTSTAMP:20260422T020352
CREATED:20250509T012753Z
LAST-MODIFIED:20250509T012832Z
UID:25695-1747526400-1747612799@ahepa356.org
SUMMARY:AHEPA Day
DESCRIPTION:Holy Trinity Greek Orthodox Church
URL:https://ahepa356.org/event/ahepa-day/
END:VEVENT
END:VCALENDAR