BEGIN:VCALENDAR
VERSION:2.0
PRODID:-//AHEPA Chapter 356 Clearwater - ECPv6.15.20//NONSGML v1.0//EN
CALSCALE:GREGORIAN
METHOD:PUBLISH
X-ORIGINAL-URL:https://ahepa356.org
X-WR-CALDESC:Events for AHEPA Chapter 356 Clearwater
REFRESH-INTERVAL;VALUE=DURATION:PT1H
X-Robots-Tag:noindex
X-PUBLISHED-TTL:PT1H
BEGIN:VTIMEZONE
TZID:UTC
BEGIN:STANDARD
TZOFFSETFROM:+0000
TZOFFSETTO:+0000
TZNAME:UTC
DTSTART:20240101T000000
END:STANDARD
END:VTIMEZONE
BEGIN:VEVENT
DTSTART;TZID=UTC:20250209T110000
DTEND;TZID=UTC:20250209T200000
DTSTAMP:20260422T080713
CREATED:20250128T145824Z
LAST-MODIFIED:20250128T145824Z
UID:25585-1739098800-1739131200@ahepa356.org
SUMMARY:AHEPA Chapter 16: 21st Annual Super Bowl Golf Tournament
DESCRIPTION:AHEPA Chapter 16: 21st Annual Super Bowl Golf Tournament. Sunday\, February 9th\, 2025 – 12 Noon Shotgun Start. \nTarpon Springs Golf Club \n\n4 Player Scramble Format\n1st & 2nd Place Team Awards\nRegistration & Putting Contest at 11AM\n5:00PM – Dinner\, Awards and Prizes\n\nAT: AHEPA House – 20 W. Tarpon Ave. Golf and Dinner $ 85.00 Per Person Dinner only $ 20.00 Contact: Michael Pantel 727-461-6220 or mmpjd1@gmail.com
URL:https://ahepa356.org/event/ahepa-chapter-16-21st-annual-super-bowl-golf-tournament/
END:VEVENT
END:VCALENDAR