BEGIN:VCALENDAR
VERSION:2.0
PRODID:-//AHEPA Chapter 356 Clearwater - ECPv6.15.20//NONSGML v1.0//EN
CALSCALE:GREGORIAN
METHOD:PUBLISH
X-WR-CALNAME:AHEPA Chapter 356 Clearwater
X-ORIGINAL-URL:https://ahepa356.org
X-WR-CALDESC:Events for AHEPA Chapter 356 Clearwater
REFRESH-INTERVAL;VALUE=DURATION:PT1H
X-Robots-Tag:noindex
X-PUBLISHED-TTL:PT1H
BEGIN:VTIMEZONE
TZID:UTC
BEGIN:STANDARD
TZOFFSETFROM:+0000
TZOFFSETTO:+0000
TZNAME:UTC
DTSTART:20230101T000000
END:STANDARD
END:VTIMEZONE
BEGIN:VEVENT
DTSTART;TZID=UTC:20241210T190000
DTEND;TZID=UTC:20241210T210000
DTSTAMP:20260422T214854
CREATED:20240522T000945Z
LAST-MODIFIED:20240905T191556Z
UID:25441-1733857200-1733864400@ahepa356.org
SUMMARY:AHEPA "Steve Tsagaris" Chapter 356 Meeting
DESCRIPTION:Papadi Schoolroom @ Holy Trinity GOC
URL:https://ahepa356.org/event/ahepa-steve-tsagaris-chapter-356-meeting-2/
END:VEVENT
BEGIN:VEVENT
DTSTART;VALUE=DATE:20241119
DTEND;VALUE=DATE:20241120
DTSTAMP:20260422T214854
CREATED:20241028T230127Z
LAST-MODIFIED:20241028T230127Z
UID:25496-1731974400-1732060799@ahepa356.org
SUMMARY:AHEPA Family Social Dinner
DESCRIPTION:At Country Boy Restaurant
URL:https://ahepa356.org/event/ahepa-family-social-dinner/
END:VEVENT
BEGIN:VEVENT
DTSTART;TZID=UTC:20241117T100000
DTEND;TZID=UTC:20241117T170000
DTSTAMP:20260422T214854
CREATED:20240522T000819Z
LAST-MODIFIED:20241022T155147Z
UID:25437-1731837600-1731862800@ahepa356.org
SUMMARY:AHEPA Scholarship Golf Tournament
DESCRIPTION:10:00am registration and 12:30pm Shotgun Start – Team Scramble Format. WESTCHASE Golf Club – Tampa\, FL. For more details Contact Alex Theofanis at 727-288-8474 Gus Pantelides at 727-639-3000 or guspros@aol.com [VIEW FLYER]
URL:https://ahepa356.org/event/ahepa-scholarship-golf-tournament/
END:VEVENT
BEGIN:VEVENT
DTSTART;TZID=UTC:20241112T190000
DTEND;TZID=UTC:20241112T210000
DTSTAMP:20260422T214854
CREATED:20240522T000900Z
LAST-MODIFIED:20240522T001159Z
UID:25439-1731438000-1731445200@ahepa356.org
SUMMARY:AHEPA "Steve Tsagaris" Chapter 356 Meeting
DESCRIPTION:Papadi Schoolroom @ Holy Trinity GOC
URL:https://ahepa356.org/event/hepa-steve-tsagaris-chapter-356-meeting/
END:VEVENT
BEGIN:VEVENT
DTSTART;VALUE=DATE:20241025
DTEND;VALUE=DATE:20241028
DTSTAMP:20260422T214854
CREATED:20240916T011931Z
LAST-MODIFIED:20240916T011945Z
UID:25488-1729814400-1730073599@ahepa356.org
SUMMARY:Clearwater GreekFest
DESCRIPTION:At Holy Trinity Greek Orthodox Church [VIEW FLYER]
URL:https://ahepa356.org/event/clearwater-greekfest/
END:VEVENT
BEGIN:VEVENT
DTSTART;TZID=UTC:20241008T190000
DTEND;TZID=UTC:20241008T210000
DTSTAMP:20260422T214854
CREATED:20240522T000731Z
LAST-MODIFIED:20240522T000731Z
UID:25435-1728414000-1728421200@ahepa356.org
SUMMARY:AHEPA "Steve Tsagaris" Chapter 356 Meeting
DESCRIPTION:Papadi Schoolroom @ Holy Trinity GOC
URL:https://ahepa356.org/event/ahepa-steve-tsagaris-chapter-356-meeting/
END:VEVENT
BEGIN:VEVENT
DTSTART;TZID=UTC:20240910T190000
DTEND;TZID=UTC:20240910T210000
DTSTAMP:20260422T214854
CREATED:20240522T000641Z
LAST-MODIFIED:20240522T000641Z
UID:25433-1725994800-1726002000@ahepa356.org
SUMMARY:AHEPA/DOP Joint Installation of Officers & Meetings
DESCRIPTION:Matheos Hall @ Holy Trinity GOC
URL:https://ahepa356.org/event/ahepa-dop-joint-installation-of-officers-meetings/
END:VEVENT
BEGIN:VEVENT
DTSTART;TZID=UTC:20240907T183000
DTEND;TZID=UTC:20240907T230000
DTSTAMP:20260422T214854
CREATED:20240618T154215Z
LAST-MODIFIED:20240823T205914Z
UID:25447-1725733800-1725750000@ahepa356.org
SUMMARY:POSTPONED AHEPA Family of Clearwater Casino Night
DESCRIPTION:POSTPONED UNTIL FURTHER NOTICE. STAY TUNED FOR UP AND COMING DETAILS.
URL:https://ahepa356.org/event/ahepa-family-of-clearwater-casino-night-2/
END:VEVENT
BEGIN:VEVENT
DTSTART;VALUE=DATE:20240721
DTEND;VALUE=DATE:20240728
DTSTAMP:20260422T214854
CREATED:20240102T235320Z
LAST-MODIFIED:20240102T235320Z
UID:25240-1721520000-1722124799@ahepa356.org
SUMMARY:National Convention in Cyprus
DESCRIPTION:
URL:https://ahepa356.org/event/national-convention-in-cyprus/
END:VEVENT
BEGIN:VEVENT
DTSTART;TZID=UTC:20240616T083000
DTEND;TZID=UTC:20240616T233000
DTSTAMP:20260422T214854
CREATED:20240102T235211Z
LAST-MODIFIED:20240102T235211Z
UID:25238-1718526600-1718580600@ahepa356.org
SUMMARY:Narthex Duty
DESCRIPTION:
URL:https://ahepa356.org/event/narthex-duty-15/
END:VEVENT
BEGIN:VEVENT
DTSTART;TZID=UTC:20240611T183000
DTEND;TZID=UTC:20240611T200000
DTSTAMP:20260422T214854
CREATED:20240102T235059Z
LAST-MODIFIED:20240102T235059Z
UID:25236-1718130600-1718136000@ahepa356.org
SUMMARY:Last Chapter Meeting Before Summer Break
DESCRIPTION:
URL:https://ahepa356.org/event/last-chapter-meeting-before-summer-break/
END:VEVENT
BEGIN:VEVENT
DTSTART;VALUE=DATE:20240606
DTEND;VALUE=DATE:20240610
DTSTAMP:20260422T214854
CREATED:20230929T142559Z
LAST-MODIFIED:20240216T000823Z
UID:25202-1717632000-1717977599@ahepa356.org
SUMMARY:District 2 Convention
DESCRIPTION:AHEPA Chapter 161 and Daughters of Penelope Chapter 189 are Hosting the District 2 Convention at the Hilton Altamonte Springs. Golf\, food\, drink and great socials. Details to follow.
URL:https://ahepa356.org/event/district-2-convention/
END:VEVENT
BEGIN:VEVENT
DTSTART;TZID=UTC:20240602T160000
DTEND;TZID=UTC:20240602T190000
DTSTAMP:20260422T214854
CREATED:20240522T000525Z
LAST-MODIFIED:20240522T000525Z
UID:25431-1717344000-1717354800@ahepa356.org
SUMMARY:AHEPA Family Scholarship Awards Banquet
DESCRIPTION:Island Way Grill – Clearwater Beach
URL:https://ahepa356.org/event/ahepa-family-scholarship-awards-banquet/
END:VEVENT
BEGIN:VEVENT
DTSTART;TZID=UTC:20240519T083000
DTEND;TZID=UTC:20240519T233000
DTSTAMP:20260422T214854
CREATED:20240102T234933Z
LAST-MODIFIED:20240102T234933Z
UID:25234-1716107400-1716161400@ahepa356.org
SUMMARY:Narthex Duty
DESCRIPTION:
URL:https://ahepa356.org/event/narthex-duty-14/
END:VEVENT
BEGIN:VEVENT
DTSTART;TZID=UTC:20240514T183000
DTEND;TZID=UTC:20240514T200000
DTSTAMP:20260422T214854
CREATED:20230821T124444Z
LAST-MODIFIED:20230821T124444Z
UID:25169-1715711400-1715716800@ahepa356.org
SUMMARY:Chapter Meeting
DESCRIPTION:
URL:https://ahepa356.org/event/chapter-meeting-7/
END:VEVENT
BEGIN:VEVENT
DTSTART;VALUE=DATE:20240512
DTEND;VALUE=DATE:20240513
DTSTAMP:20260422T214854
CREATED:20230821T124550Z
LAST-MODIFIED:20240102T234835Z
UID:25173-1715472000-1715558399@ahepa356.org
SUMMARY:Mothers Day & Scholarships
DESCRIPTION:
URL:https://ahepa356.org/event/remit-scholarships/
END:VEVENT
BEGIN:VEVENT
DTSTART;VALUE=DATE:20240505
DTEND;VALUE=DATE:20240506
DTSTAMP:20260422T214854
CREATED:20230820T195723Z
LAST-MODIFIED:20230820T195723Z
UID:25153-1714867200-1714953599@ahepa356.org
SUMMARY:Pascha
DESCRIPTION:
URL:https://ahepa356.org/event/pascha-2/
END:VEVENT
BEGIN:VEVENT
DTSTART;VALUE=DATE:20240428
DTEND;VALUE=DATE:20240429
DTSTAMP:20260422T214854
CREATED:20230820T195644Z
LAST-MODIFIED:20230820T195644Z
UID:25151-1714262400-1714348799@ahepa356.org
SUMMARY:Palm Sunday
DESCRIPTION:
URL:https://ahepa356.org/event/palm-sunday-2/
END:VEVENT
BEGIN:VEVENT
DTSTART;TZID=UTC:20240421T083000
DTEND;TZID=UTC:20240421T110000
DTSTAMP:20260422T214854
CREATED:20230821T124334Z
LAST-MODIFIED:20230821T124334Z
UID:25167-1713688200-1713697200@ahepa356.org
SUMMARY:Narthex Duty
DESCRIPTION:
URL:https://ahepa356.org/event/narthex-duty-13/
END:VEVENT
BEGIN:VEVENT
DTSTART;TZID=UTC:20240409T183000
DTEND;TZID=UTC:20240409T200000
DTSTAMP:20260422T214854
CREATED:20230821T124119Z
LAST-MODIFIED:20230821T124119Z
UID:25163-1712687400-1712692800@ahepa356.org
SUMMARY:Chapter Meeting
DESCRIPTION:
URL:https://ahepa356.org/event/chapter-meeting-6/
END:VEVENT
BEGIN:VEVENT
DTSTART;VALUE=DATE:20240324
DTEND;VALUE=DATE:20240325
DTSTAMP:20260422T214854
CREATED:20230820T200123Z
LAST-MODIFIED:20230820T200123Z
UID:25161-1711238400-1711324799@ahepa356.org
SUMMARY:Greek Independence Day
DESCRIPTION:
URL:https://ahepa356.org/event/greek-independence-day-2/
END:VEVENT
BEGIN:VEVENT
DTSTART;VALUE=DATE:20240318
DTEND;VALUE=DATE:20240319
DTSTAMP:20260422T214854
CREATED:20230820T195613Z
LAST-MODIFIED:20230820T195613Z
UID:25149-1710720000-1710806399@ahepa356.org
SUMMARY:Beginning of Great Lent
DESCRIPTION:
URL:https://ahepa356.org/event/beginning-of-great-lent/
END:VEVENT
BEGIN:VEVENT
DTSTART;TZID=UTC:20240317T083000
DTEND;TZID=UTC:20240317T113000
DTSTAMP:20260422T214854
CREATED:20230820T200043Z
LAST-MODIFIED:20230820T200043Z
UID:25159-1710664200-1710675000@ahepa356.org
SUMMARY:Narthex Duty
DESCRIPTION:
URL:https://ahepa356.org/event/narthex-duty-11/
END:VEVENT
BEGIN:VEVENT
DTSTART;VALUE=DATE:20240315
DTEND;VALUE=DATE:20240316
DTSTAMP:20260422T214854
CREATED:20230820T195848Z
LAST-MODIFIED:20230820T195848Z
UID:25157-1710460800-1710547199@ahepa356.org
SUMMARY:Men's Social (Planning)
DESCRIPTION:
URL:https://ahepa356.org/event/mens-social-planning/
END:VEVENT
BEGIN:VEVENT
DTSTART;TZID=UTC:20240312T183000
DTEND;TZID=UTC:20240312T200000
DTSTAMP:20260422T214854
CREATED:20230820T195808Z
LAST-MODIFIED:20230821T124711Z
UID:25155-1710268200-1710273600@ahepa356.org
SUMMARY:Chapter Meeting
DESCRIPTION:
URL:https://ahepa356.org/event/membership-meeting-7/
END:VEVENT
BEGIN:VEVENT
DTSTART;VALUE=DATE:20240311
DTEND;VALUE=DATE:20240318
DTSTAMP:20260422T214854
CREATED:20230820T195532Z
LAST-MODIFIED:20240311T185943Z
UID:25147-1710115200-1710719999@ahepa356.org
SUMMARY:Cheesefare
DESCRIPTION:
URL:https://ahepa356.org/event/cheesefare/
END:VEVENT
BEGIN:VEVENT
DTSTART;VALUE=DATE:20240307
DTEND;VALUE=DATE:20240308
DTSTAMP:20260422T214854
CREATED:20240216T000634Z
LAST-MODIFIED:20240216T000634Z
UID:25253-1709769600-1709855999@ahepa356.org
SUMMARY:Tsiknopempki Feast
DESCRIPTION:At Opa Taverna. Details pending
URL:https://ahepa356.org/event/tsiknopempki-feast/
END:VEVENT
BEGIN:VEVENT
DTSTART;VALUE=DATE:20240304
DTEND;VALUE=DATE:20240311
DTSTAMP:20260422T214854
CREATED:20230820T195445Z
LAST-MODIFIED:20240311T190012Z
UID:25145-1709510400-1710115199@ahepa356.org
SUMMARY:Meatfare
DESCRIPTION:
URL:https://ahepa356.org/event/meatfare/
END:VEVENT
BEGIN:VEVENT
DTSTART;TZID=UTC:20240302T080000
DTEND;TZID=UTC:20240302T170000
DTSTAMP:20260422T214854
CREATED:20230929T142218Z
LAST-MODIFIED:20230929T142218Z
UID:25194-1709366400-1709398800@ahepa356.org
SUMMARY:DOP Pre-Lenten Social
DESCRIPTION:
URL:https://ahepa356.org/event/dop-pre-lenten-social/
END:VEVENT
BEGIN:VEVENT
DTSTART;TZID=UTC:20240224T183000
DTEND;TZID=UTC:20240224T213000
DTSTAMP:20260422T214854
CREATED:20230224T194815Z
LAST-MODIFIED:20240102T234615Z
UID:25135-1708799400-1708810200@ahepa356.org
SUMMARY:TENTATIVE Apokreatiko Glendi – Joint with DOP
DESCRIPTION:
URL:https://ahepa356.org/event/joint-dop-social/
END:VEVENT
END:VCALENDAR