BEGIN:VCALENDAR
VERSION:2.0
PRODID:-//AHEPA Chapter 356 Clearwater - ECPv6.15.20//NONSGML v1.0//EN
CALSCALE:GREGORIAN
METHOD:PUBLISH
X-WR-CALNAME:AHEPA Chapter 356 Clearwater
X-ORIGINAL-URL:https://ahepa356.org
X-WR-CALDESC:Events for AHEPA Chapter 356 Clearwater
REFRESH-INTERVAL;VALUE=DURATION:PT1H
X-Robots-Tag:noindex
X-PUBLISHED-TTL:PT1H
BEGIN:VTIMEZONE
TZID:UTC
BEGIN:STANDARD
TZOFFSETFROM:+0000
TZOFFSETTO:+0000
TZNAME:UTC
DTSTART:20220101T000000
END:STANDARD
END:VTIMEZONE
BEGIN:VEVENT
DTSTART;TZID=UTC:20231010T183000
DTEND;TZID=UTC:20231010T200000
DTSTAMP:20260423T115229
CREATED:20230820T192859Z
LAST-MODIFIED:20230821T125131Z
UID:25101-1696962600-1696968000@ahepa356.org
SUMMARY:Chapter Meeting
DESCRIPTION:
URL:https://ahepa356.org/event/membership-meeting-2/
END:VEVENT
BEGIN:VEVENT
DTSTART;TZID=UTC:20231008T100000
DTEND;TZID=UTC:20231008T120000
DTSTAMP:20260423T115229
CREATED:20230929T141859Z
LAST-MODIFIED:20230929T141859Z
UID:25191-1696759200-1696766400@ahepa356.org
SUMMARY:Loukoumades after Church
DESCRIPTION:Please support our sisters in the Daughters of Penelope in their Loukoumades fundraiser after church services
URL:https://ahepa356.org/event/loukoumades-after-church/
END:VEVENT
BEGIN:VEVENT
DTSTART;TZID=UTC:20230929T080000
DTEND;TZID=UTC:20230929T170000
DTSTAMP:20260423T115229
CREATED:20230929T142312Z
LAST-MODIFIED:20230929T142312Z
UID:25196-1695974400-1696006800@ahepa356.org
SUMMARY:*Tentative Oxi Day Event
DESCRIPTION:
URL:https://ahepa356.org/event/tentative-oxi-day-event/
END:VEVENT
BEGIN:VEVENT
DTSTART;VALUE=DATE:20230926
DTEND;VALUE=DATE:20230927
DTSTAMP:20260423T115229
CREATED:20230820T192815Z
LAST-MODIFIED:20230820T192815Z
UID:25099-1695686400-1695772799@ahepa356.org
SUMMARY:Joint DOP
DESCRIPTION:
URL:https://ahepa356.org/event/joint-dop/
END:VEVENT
BEGIN:VEVENT
DTSTART;VALUE=DATE:20230922
DTEND;VALUE=DATE:20230923
DTSTAMP:20260423T115229
CREATED:20230820T192731Z
LAST-MODIFIED:20230821T125533Z
UID:25097-1695340800-1695427199@ahepa356.org
SUMMARY:Men's Social
DESCRIPTION:
URL:https://ahepa356.org/event/mens-social/
END:VEVENT
BEGIN:VEVENT
DTSTART;TZID=UTC:20230917T083000
DTEND;TZID=UTC:20230917T233000
DTSTAMP:20260423T115229
CREATED:20230820T192651Z
LAST-MODIFIED:20230820T192651Z
UID:25095-1694939400-1694993400@ahepa356.org
SUMMARY:Narthex Duty
DESCRIPTION:
URL:https://ahepa356.org/event/narthex-duty-5/
END:VEVENT
BEGIN:VEVENT
DTSTART;VALUE=DATE:20230914
DTEND;VALUE=DATE:20230915
DTSTAMP:20260423T115229
CREATED:20230820T192259Z
LAST-MODIFIED:20230820T192533Z
UID:25092-1694649600-1694735999@ahepa356.org
SUMMARY:DOP & AHEPA My Big Fat Greek Wedding
DESCRIPTION:
URL:https://ahepa356.org/event/dop-ahepa-my-big-fat-greek-wedding/
LOCATION:Aloma Cinema Grill\, 2155 Aloma Ave\, Winter Park\, FL\, 32792\, United States
END:VEVENT
BEGIN:VEVENT
DTSTART;TZID=UTC:20230912T183000
DTEND;TZID=UTC:20230912T200000
DTSTAMP:20260423T115229
CREATED:20230820T192044Z
LAST-MODIFIED:20230821T125154Z
UID:25090-1694543400-1694548800@ahepa356.org
SUMMARY:Chapter Meeting
DESCRIPTION:
URL:https://ahepa356.org/event/membership-meeting/
END:VEVENT
BEGIN:VEVENT
DTSTART;VALUE=DATE:20230909
DTEND;VALUE=DATE:20230910
DTSTAMP:20260423T115229
CREATED:20230820T191351Z
LAST-MODIFIED:20230820T191351Z
UID:25088-1694217600-1694303999@ahepa356.org
SUMMARY:Holy Trinity Greek Night
DESCRIPTION:
URL:https://ahepa356.org/event/holy-trinity-greek-night/
END:VEVENT
BEGIN:VEVENT
DTSTART;VALUE=DATE:20230828
DTEND;VALUE=DATE:20230829
DTSTAMP:20260423T115229
CREATED:20230820T190952Z
LAST-MODIFIED:20230820T191623Z
UID:25086-1693180800-1693267199@ahepa356.org
SUMMARY:DOP at St Photios
DESCRIPTION:
URL:https://ahepa356.org/event/dop-at-st-photios/
END:VEVENT
BEGIN:VEVENT
DTSTART;VALUE=DATE:20230821
DTEND;VALUE=DATE:20230822
DTSTAMP:20260423T115229
CREATED:20230821T124516Z
LAST-MODIFIED:20230821T124516Z
UID:25171-1692576000-1692662399@ahepa356.org
SUMMARY:Mother's Day Community Event
DESCRIPTION:
URL:https://ahepa356.org/event/mothers-day-community-event/
END:VEVENT
BEGIN:VEVENT
DTSTART;TZID=UTC:20230820T083000
DTEND;TZID=UTC:20230820T113000
DTSTAMP:20260423T115229
CREATED:20230820T190829Z
LAST-MODIFIED:20230821T125227Z
UID:25084-1692520200-1692531000@ahepa356.org
SUMMARY:Narthex Duty
DESCRIPTION:
URL:https://ahepa356.org/event/narthex/
END:VEVENT
BEGIN:VEVENT
DTSTART;TZID=UTC:20230814T083000
DTEND;TZID=UTC:20230814T110000
DTSTAMP:20260423T115229
CREATED:20230821T124234Z
LAST-MODIFIED:20230821T124234Z
UID:25165-1692001800-1692010800@ahepa356.org
SUMMARY:Narthex Duty
DESCRIPTION:
URL:https://ahepa356.org/event/narthex-duty-12/
END:VEVENT
BEGIN:VEVENT
DTSTART;VALUE=DATE:20230521
DTEND;VALUE=DATE:20230522
DTSTAMP:20260423T115229
CREATED:20230111T143345Z
LAST-MODIFIED:20230111T143345Z
UID:24474-1684627200-1684713599@ahepa356.org
SUMMARY:Narthex Duty
DESCRIPTION:
URL:https://ahepa356.org/event/narthex-duty-3/
END:VEVENT
BEGIN:VEVENT
DTSTART;VALUE=DATE:20230514
DTEND;VALUE=DATE:20230515
DTSTAMP:20260423T115229
CREATED:20230112T103427Z
LAST-MODIFIED:20230112T103427Z
UID:24516-1684022400-1684108799@ahepa356.org
SUMMARY:Scholarship Award Luncheon
DESCRIPTION:
URL:https://ahepa356.org/event/scholarship-award-luncheon/
END:VEVENT
BEGIN:VEVENT
DTSTART;VALUE=DATE:20230514
DTEND;VALUE=DATE:20230515
DTSTAMP:20260423T115229
CREATED:20230111T143245Z
LAST-MODIFIED:20230111T143245Z
UID:24472-1684022400-1684108799@ahepa356.org
SUMMARY:Mother’s Day Luncheon
DESCRIPTION:
URL:https://ahepa356.org/event/mothers-day-luncheon/
END:VEVENT
BEGIN:VEVENT
DTSTART;VALUE=DATE:20230509
DTEND;VALUE=DATE:20230510
DTSTAMP:20260423T115229
CREATED:20230111T143204Z
LAST-MODIFIED:20230112T103125Z
UID:24471-1683590400-1683676799@ahepa356.org
SUMMARY:Chapter Meeting
DESCRIPTION:
URL:https://ahepa356.org/event/chapter-meeting-5/
END:VEVENT
BEGIN:VEVENT
DTSTART;VALUE=DATE:20230504
DTEND;VALUE=DATE:20230505
DTSTAMP:20260423T115229
CREATED:20230111T143102Z
LAST-MODIFIED:20230111T143102Z
UID:24459-1683158400-1683244799@ahepa356.org
SUMMARY:Board Meeting
DESCRIPTION:
URL:https://ahepa356.org/event/board-meeting-5/
END:VEVENT
BEGIN:VEVENT
DTSTART;VALUE=DATE:20230430
DTEND;VALUE=DATE:20230501
DTSTAMP:20260423T115229
CREATED:20230112T102859Z
LAST-MODIFIED:20230112T102859Z
UID:24520-1682812800-1682899199@ahepa356.org
SUMMARY:Prime Rib Dinner
DESCRIPTION:
URL:https://ahepa356.org/event/prime-rib-dinner/
END:VEVENT
BEGIN:VEVENT
DTSTART;VALUE=DATE:20230422
DTEND;VALUE=DATE:20230423
DTSTAMP:20260423T115229
CREATED:20230112T102835Z
LAST-MODIFIED:20230112T102835Z
UID:24518-1682121600-1682207999@ahepa356.org
SUMMARY:Clay Shooting
DESCRIPTION:
URL:https://ahepa356.org/event/clay-shooting/
END:VEVENT
BEGIN:VEVENT
DTSTART;VALUE=DATE:20230416
DTEND;VALUE=DATE:20230417
DTSTAMP:20260423T115229
CREATED:20230111T143007Z
LAST-MODIFIED:20230112T102750Z
UID:24462-1681603200-1681689599@ahepa356.org
SUMMARY:Narthex Duty
DESCRIPTION:
URL:https://ahepa356.org/event/narthex-duty-4/
END:VEVENT
BEGIN:VEVENT
DTSTART;VALUE=DATE:20230416
DTEND;VALUE=DATE:20230417
DTSTAMP:20260423T115229
CREATED:20230111T142935Z
LAST-MODIFIED:20230111T142935Z
UID:24461-1681603200-1681689599@ahepa356.org
SUMMARY:Pascha
DESCRIPTION:
URL:https://ahepa356.org/event/pascha/
END:VEVENT
BEGIN:VEVENT
DTSTART;VALUE=DATE:20230414
DTEND;VALUE=DATE:20230415
DTSTAMP:20260423T115229
CREATED:20230111T142914Z
LAST-MODIFIED:20230112T102706Z
UID:24460-1681430400-1681516799@ahepa356.org
SUMMARY:Holy Friday
DESCRIPTION:
URL:https://ahepa356.org/event/hloy-friday/
END:VEVENT
BEGIN:VEVENT
DTSTART;VALUE=DATE:20230411
DTEND;VALUE=DATE:20230412
DTSTAMP:20260423T115229
CREATED:20230111T142852Z
LAST-MODIFIED:20230112T102553Z
UID:24458-1681171200-1681257599@ahepa356.org
SUMMARY:Chapter Meeting
DESCRIPTION:
URL:https://ahepa356.org/event/chapter-meeting-4/
END:VEVENT
BEGIN:VEVENT
DTSTART;VALUE=DATE:20230409
DTEND;VALUE=DATE:20230410
DTSTAMP:20260423T115229
CREATED:20230111T142803Z
LAST-MODIFIED:20230111T142803Z
UID:24457-1680998400-1681084799@ahepa356.org
SUMMARY:Palm Sunday
DESCRIPTION:
URL:https://ahepa356.org/event/palm-sunday/
END:VEVENT
BEGIN:VEVENT
DTSTART;VALUE=DATE:20230408
DTEND;VALUE=DATE:20230409
DTSTAMP:20260423T115229
CREATED:20230112T102517Z
LAST-MODIFIED:20230112T102517Z
UID:24517-1680912000-1680998399@ahepa356.org
SUMMARY:Lazarus Saturday
DESCRIPTION:
URL:https://ahepa356.org/event/lazarus-saturday/
END:VEVENT
BEGIN:VEVENT
DTSTART;VALUE=DATE:20230406
DTEND;VALUE=DATE:20230407
DTSTAMP:20260423T115229
CREATED:20230111T142733Z
LAST-MODIFIED:20230111T142733Z
UID:24451-1680739200-1680825599@ahepa356.org
SUMMARY:Board Meeting
DESCRIPTION:
URL:https://ahepa356.org/event/board-meeting-4/
END:VEVENT
BEGIN:VEVENT
DTSTART;VALUE=DATE:20230325
DTEND;VALUE=DATE:20230326
DTSTAMP:20260423T115229
CREATED:20230112T102414Z
LAST-MODIFIED:20230112T102414Z
UID:24515-1679702400-1679788799@ahepa356.org
SUMMARY:Greek Independence Day
DESCRIPTION:
URL:https://ahepa356.org/event/greek-independence-day/
END:VEVENT
BEGIN:VEVENT
DTSTART;VALUE=DATE:20230314
DTEND;VALUE=DATE:20230315
DTSTAMP:20260423T115229
CREATED:20230111T142635Z
LAST-MODIFIED:20230112T102307Z
UID:24450-1678752000-1678838399@ahepa356.org
SUMMARY:Chapter Meeting
DESCRIPTION:
URL:https://ahepa356.org/event/chapter-meeting-3/
END:VEVENT
BEGIN:VEVENT
DTSTART;VALUE=DATE:20230309
DTEND;VALUE=DATE:20230310
DTSTAMP:20260423T115229
CREATED:20230111T142610Z
LAST-MODIFIED:20230111T142610Z
UID:24449-1678320000-1678406399@ahepa356.org
SUMMARY:Board Meeting
DESCRIPTION:
URL:https://ahepa356.org/event/board-meeting-3/
END:VEVENT
END:VCALENDAR