BEGIN:VCALENDAR
VERSION:2.0
PRODID:-//AHEPA Chapter 356 Clearwater - ECPv6.15.20//NONSGML v1.0//EN
CALSCALE:GREGORIAN
METHOD:PUBLISH
X-WR-CALNAME:AHEPA Chapter 356 Clearwater
X-ORIGINAL-URL:https://ahepa356.org
X-WR-CALDESC:Events for AHEPA Chapter 356 Clearwater
REFRESH-INTERVAL;VALUE=DURATION:PT1H
X-Robots-Tag:noindex
X-PUBLISHED-TTL:PT1H
BEGIN:VTIMEZONE
TZID:UTC
BEGIN:STANDARD
TZOFFSETFROM:+0000
TZOFFSETTO:+0000
TZNAME:UTC
DTSTART:20220101T000000
END:STANDARD
END:VTIMEZONE
BEGIN:VEVENT
DTSTART;TZID=UTC:20240302T080000
DTEND;TZID=UTC:20240302T170000
DTSTAMP:20260422T224544
CREATED:20230929T142218Z
LAST-MODIFIED:20230929T142218Z
UID:25194-1709366400-1709398800@ahepa356.org
SUMMARY:DOP Pre-Lenten Social
DESCRIPTION:
URL:https://ahepa356.org/event/dop-pre-lenten-social/
END:VEVENT
BEGIN:VEVENT
DTSTART;TZID=UTC:20240224T183000
DTEND;TZID=UTC:20240224T213000
DTSTAMP:20260422T224544
CREATED:20230224T194815Z
LAST-MODIFIED:20240102T234615Z
UID:25135-1708799400-1708810200@ahepa356.org
SUMMARY:TENTATIVE Apokreatiko Glendi – Joint with DOP
DESCRIPTION:
URL:https://ahepa356.org/event/joint-dop-social/
END:VEVENT
BEGIN:VEVENT
DTSTART;TZID=UTC:20240218T083000
DTEND;TZID=UTC:20240218T113000
DTSTAMP:20260422T224544
CREATED:20230820T195215Z
LAST-MODIFIED:20230820T195215Z
UID:25143-1708245000-1708255800@ahepa356.org
SUMMARY:Narthex Duty
DESCRIPTION:
URL:https://ahepa356.org/event/narthex-duty-10/
END:VEVENT
BEGIN:VEVENT
DTSTART;VALUE=DATE:20240216
DTEND;VALUE=DATE:20240217
DTSTAMP:20260422T224544
CREATED:20230821T124738Z
LAST-MODIFIED:20230821T124738Z
UID:25141-1708041600-1708127999@ahepa356.org
SUMMARY:Men's Social (Planning)
DESCRIPTION:
URL:https://ahepa356.org/event/mens-social-planning-2/
END:VEVENT
BEGIN:VEVENT
DTSTART;TZID=UTC:20240213T183000
DTEND;TZID=UTC:20240213T200000
DTSTAMP:20260422T224544
CREATED:20230820T195057Z
LAST-MODIFIED:20230821T124947Z
UID:25139-1707849000-1707854400@ahepa356.org
SUMMARY:Chapter Meeting
DESCRIPTION:
URL:https://ahepa356.org/event/membership-meeting-6/
END:VEVENT
BEGIN:VEVENT
DTSTART;VALUE=DATE:20240130
DTEND;VALUE=DATE:20240205
DTSTAMP:20260422T224544
CREATED:20230820T195007Z
LAST-MODIFIED:20240102T234138Z
UID:25137-1706572800-1707091199@ahepa356.org
SUMMARY:Tables Extraordinaire
DESCRIPTION:
URL:https://ahepa356.org/event/tables-extraordinaire/
END:VEVENT
BEGIN:VEVENT
DTSTART;VALUE=DATE:20240127
DTEND;VALUE=DATE:20240128
DTSTAMP:20260422T224544
CREATED:20240102T234302Z
LAST-MODIFIED:20240102T234302Z
UID:25228-1706313600-1706399999@ahepa356.org
SUMMARY:Social TENTATIVE
DESCRIPTION:TBD
URL:https://ahepa356.org/event/social-tentative/
END:VEVENT
BEGIN:VEVENT
DTSTART;VALUE=DATE:20240126
DTEND;VALUE=DATE:20240127
DTSTAMP:20260422T224544
CREATED:20240102T234217Z
LAST-MODIFIED:20240102T234322Z
UID:25226-1706227200-1706313599@ahepa356.org
SUMMARY:Social TENTATIVE
DESCRIPTION:TBD
URL:https://ahepa356.org/event/social/
END:VEVENT
BEGIN:VEVENT
DTSTART;TZID=UTC:20240121T083000
DTEND;TZID=UTC:20240121T113000
DTSTAMP:20260422T224544
CREATED:20230820T194736Z
LAST-MODIFIED:20230820T194736Z
UID:25133-1705825800-1705836600@ahepa356.org
SUMMARY:Narthex Duty
DESCRIPTION:
URL:https://ahepa356.org/event/narthex-duty-9/
END:VEVENT
BEGIN:VEVENT
DTSTART;VALUE=DATE:20240111
DTEND;VALUE=DATE:20240115
DTSTAMP:20260422T224544
CREATED:20240102T234030Z
LAST-MODIFIED:20240102T234030Z
UID:25224-1704931200-1705276799@ahepa356.org
SUMMARY:HDF
DESCRIPTION:
URL:https://ahepa356.org/event/hdf/
END:VEVENT
BEGIN:VEVENT
DTSTART;TZID=UTC:20240109T190000
DTEND;TZID=UTC:20240109T200000
DTSTAMP:20260422T224544
CREATED:20240102T233845Z
LAST-MODIFIED:20240102T233845Z
UID:25222-1704826800-1704830400@ahepa356.org
SUMMARY:TENTATIVE Board Meeting
DESCRIPTION:Details TBD
URL:https://ahepa356.org/event/tentative-board-meeting/
END:VEVENT
BEGIN:VEVENT
DTSTART;TZID=UTC:20240109T183000
DTEND;TZID=UTC:20240109T200000
DTSTAMP:20260422T224544
CREATED:20230820T194544Z
LAST-MODIFIED:20230821T125024Z
UID:25129-1704825000-1704830400@ahepa356.org
SUMMARY:Chapter Meeting
DESCRIPTION:
URL:https://ahepa356.org/event/membership-meeting-5/
END:VEVENT
BEGIN:VEVENT
DTSTART;TZID=UTC:20231217T083000
DTEND;TZID=UTC:20231217T113000
DTSTAMP:20260422T224544
CREATED:20230820T194433Z
LAST-MODIFIED:20230820T194433Z
UID:25127-1702801800-1702812600@ahepa356.org
SUMMARY:Narthex Duty
DESCRIPTION:
URL:https://ahepa356.org/event/narthex-duty-8/
END:VEVENT
BEGIN:VEVENT
DTSTART;TZID=UTC:20231212T183000
DTEND;TZID=UTC:20231212T200000
DTSTAMP:20260422T224544
CREATED:20230820T194206Z
LAST-MODIFIED:20230821T125045Z
UID:25123-1702405800-1702411200@ahepa356.org
SUMMARY:Chapter Meeting
DESCRIPTION:
URL:https://ahepa356.org/event/membership-meeting-4/
END:VEVENT
BEGIN:VEVENT
DTSTART;TZID=UTC:20231205T183000
DTEND;TZID=UTC:20231205T213000
DTSTAMP:20260422T224544
CREATED:20230929T142403Z
LAST-MODIFIED:20231116T204346Z
UID:25198-1701801000-1701811800@ahepa356.org
SUMMARY:Joint DOP & AHEPA Christmas Party
DESCRIPTION:At Cafe Murano in Altamonte Springs. Check back for details.
URL:https://ahepa356.org/event/tentative-joint-christmas-party/
END:VEVENT
BEGIN:VEVENT
DTSTART;VALUE=DATE:20231123
DTEND;VALUE=DATE:20231125
DTSTAMP:20260422T224544
CREATED:20230820T194117Z
LAST-MODIFIED:20230820T194117Z
UID:25121-1700697600-1700870399@ahepa356.org
SUMMARY:Thanksgiving
DESCRIPTION:
URL:https://ahepa356.org/event/thanksgiving/
END:VEVENT
BEGIN:VEVENT
DTSTART;TZID=UTC:20231119T083000
DTEND;TZID=UTC:20231119T233000
DTSTAMP:20260422T224544
CREATED:20230820T194040Z
LAST-MODIFIED:20230820T194040Z
UID:25119-1700382600-1700436600@ahepa356.org
SUMMARY:Narthex Duty
DESCRIPTION:
URL:https://ahepa356.org/event/narthex-duty-7/
END:VEVENT
BEGIN:VEVENT
DTSTART;TZID=UTC:20231114T183000
DTEND;TZID=UTC:20231114T200000
DTSTAMP:20260422T224544
CREATED:20230820T194008Z
LAST-MODIFIED:20230929T142035Z
UID:25117-1699986600-1699992000@ahepa356.org
SUMMARY:Thanksgiving Joint Social and Membership meeting
DESCRIPTION:Thanksgiving Joint Social and Membership meeting
URL:https://ahepa356.org/event/membership-meeting-3/
END:VEVENT
BEGIN:VEVENT
DTSTART;TZID=UTC:20231111T130000
DTEND;TZID=UTC:20231111T160000
DTSTAMP:20260422T224544
CREATED:20230820T193846Z
LAST-MODIFIED:20230820T193846Z
UID:25114-1699707600-1699718400@ahepa356.org
SUMMARY:Veterans Banquet Celebration
DESCRIPTION:
URL:https://ahepa356.org/event/veterans-banquet-celebration/
LOCATION:Cafe Murano\, 309 Cranes Roost Blv\, Altamonte Springs\, FL\, 32701
END:VEVENT
BEGIN:VEVENT
DTSTART;VALUE=DATE:20231029
DTEND;VALUE=DATE:20231030
DTSTAMP:20260422T224544
CREATED:20230820T193401Z
LAST-MODIFIED:20230820T193401Z
UID:25112-1698537600-1698623999@ahepa356.org
SUMMARY:OXI Day
DESCRIPTION:
URL:https://ahepa356.org/event/oxi-day-2/
END:VEVENT
BEGIN:VEVENT
DTSTART;VALUE=DATE:20231028
DTEND;VALUE=DATE:20231029
DTSTAMP:20260422T224544
CREATED:20230820T193327Z
LAST-MODIFIED:20230820T193327Z
UID:25110-1698451200-1698537599@ahepa356.org
SUMMARY:OXI Day
DESCRIPTION:
URL:https://ahepa356.org/event/oxi-day/
END:VEVENT
BEGIN:VEVENT
DTSTART;VALUE=DATE:20231026
DTEND;VALUE=DATE:20231027
DTSTAMP:20260422T224544
CREATED:20230820T193238Z
LAST-MODIFIED:20230929T141659Z
UID:25107-1698278400-1698364799@ahepa356.org
SUMMARY:Joint DOP Halloween Social
DESCRIPTION:Joint Social with the Daughters of Penelope Halloween Costume Social and dinner at Tibbys’
URL:https://ahepa356.org/event/joint-dop-2/
END:VEVENT
BEGIN:VEVENT
DTSTART;VALUE=DATE:20231020
DTEND;VALUE=DATE:20231021
DTSTAMP:20260422T224544
CREATED:20230820T193048Z
LAST-MODIFIED:20230820T193201Z
UID:25105-1697760000-1697846399@ahepa356.org
SUMMARY:Men's Social
DESCRIPTION:
URL:https://ahepa356.org/event/mens-social-2/
END:VEVENT
BEGIN:VEVENT
DTSTART;TZID=UTC:20231015T083000
DTEND;TZID=UTC:20231015T113000
DTSTAMP:20260422T224544
CREATED:20230820T193017Z
LAST-MODIFIED:20230820T193017Z
UID:25103-1697358600-1697369400@ahepa356.org
SUMMARY:Narthex Duty
DESCRIPTION:
URL:https://ahepa356.org/event/narthex-duty-6/
END:VEVENT
BEGIN:VEVENT
DTSTART;TZID=UTC:20231010T183000
DTEND;TZID=UTC:20231010T200000
DTSTAMP:20260422T224544
CREATED:20230820T192859Z
LAST-MODIFIED:20230821T125131Z
UID:25101-1696962600-1696968000@ahepa356.org
SUMMARY:Chapter Meeting
DESCRIPTION:
URL:https://ahepa356.org/event/membership-meeting-2/
END:VEVENT
BEGIN:VEVENT
DTSTART;TZID=UTC:20231008T100000
DTEND;TZID=UTC:20231008T120000
DTSTAMP:20260422T224544
CREATED:20230929T141859Z
LAST-MODIFIED:20230929T141859Z
UID:25191-1696759200-1696766400@ahepa356.org
SUMMARY:Loukoumades after Church
DESCRIPTION:Please support our sisters in the Daughters of Penelope in their Loukoumades fundraiser after church services
URL:https://ahepa356.org/event/loukoumades-after-church/
END:VEVENT
BEGIN:VEVENT
DTSTART;TZID=UTC:20230929T080000
DTEND;TZID=UTC:20230929T170000
DTSTAMP:20260422T224544
CREATED:20230929T142312Z
LAST-MODIFIED:20230929T142312Z
UID:25196-1695974400-1696006800@ahepa356.org
SUMMARY:*Tentative Oxi Day Event
DESCRIPTION:
URL:https://ahepa356.org/event/tentative-oxi-day-event/
END:VEVENT
BEGIN:VEVENT
DTSTART;VALUE=DATE:20230926
DTEND;VALUE=DATE:20230927
DTSTAMP:20260422T224544
CREATED:20230820T192815Z
LAST-MODIFIED:20230820T192815Z
UID:25099-1695686400-1695772799@ahepa356.org
SUMMARY:Joint DOP
DESCRIPTION:
URL:https://ahepa356.org/event/joint-dop/
END:VEVENT
BEGIN:VEVENT
DTSTART;VALUE=DATE:20230922
DTEND;VALUE=DATE:20230923
DTSTAMP:20260422T224544
CREATED:20230820T192731Z
LAST-MODIFIED:20230821T125533Z
UID:25097-1695340800-1695427199@ahepa356.org
SUMMARY:Men's Social
DESCRIPTION:
URL:https://ahepa356.org/event/mens-social/
END:VEVENT
BEGIN:VEVENT
DTSTART;TZID=UTC:20230917T083000
DTEND;TZID=UTC:20230917T233000
DTSTAMP:20260422T224544
CREATED:20230820T192651Z
LAST-MODIFIED:20230820T192651Z
UID:25095-1694939400-1694993400@ahepa356.org
SUMMARY:Narthex Duty
DESCRIPTION:
URL:https://ahepa356.org/event/narthex-duty-5/
END:VEVENT
END:VCALENDAR