BEGIN:VCALENDAR
VERSION:2.0
PRODID:-//AHEPA Chapter 356 Clearwater - ECPv6.15.20//NONSGML v1.0//EN
CALSCALE:GREGORIAN
METHOD:PUBLISH
X-ORIGINAL-URL:https://ahepa356.org
X-WR-CALDESC:Events for AHEPA Chapter 356 Clearwater
REFRESH-INTERVAL;VALUE=DURATION:PT1H
X-Robots-Tag:noindex
X-PUBLISHED-TTL:PT1H
BEGIN:VTIMEZONE
TZID:UTC
BEGIN:STANDARD
TZOFFSETFROM:+0000
TZOFFSETTO:+0000
TZNAME:UTC
DTSTART:20250101T000000
END:STANDARD
END:VTIMEZONE
BEGIN:VEVENT
DTSTART;VALUE=DATE:20260726
DTEND;VALUE=DATE:20260801
DTSTAMP:20260421T215208
CREATED:20260408T213938Z
LAST-MODIFIED:20260409T214233Z
UID:26140-1785024000-1785542399@ahepa356.org
SUMMARY:104th Supreme Convention
DESCRIPTION:AHEPA Supreme Convention July 26th – July 31st\, 2026 in Philadelphia\, PA at the Sheraton Philadelphia DT.
URL:https://ahepa356.org/event/104th-supreme-convention/
END:VEVENT
END:VCALENDAR