BEGIN:VCALENDAR
VERSION:2.0
PRODID:-//AHEPA Chapter 356 Clearwater - ECPv6.15.20//NONSGML v1.0//EN
CALSCALE:GREGORIAN
METHOD:PUBLISH
X-WR-CALNAME:AHEPA Chapter 356 Clearwater
X-ORIGINAL-URL:https://ahepa356.org
X-WR-CALDESC:Events for AHEPA Chapter 356 Clearwater
REFRESH-INTERVAL;VALUE=DURATION:PT1H
X-Robots-Tag:noindex
X-PUBLISHED-TTL:PT1H
BEGIN:VTIMEZONE
TZID:UTC
BEGIN:STANDARD
TZOFFSETFROM:+0000
TZOFFSETTO:+0000
TZNAME:UTC
DTSTART:20230101T000000
END:STANDARD
END:VTIMEZONE
BEGIN:VEVENT
DTSTART;VALUE=DATE:20260517
DTEND;VALUE=DATE:20260518
DTSTAMP:20260422T014551
CREATED:20260409T214745Z
LAST-MODIFIED:20260409T214745Z
UID:26148-1778976000-1779062399@ahepa356.org
SUMMARY:International “AHEPA Day” Observance & Celebration
DESCRIPTION:At the Holy Trinity GOC
URL:https://ahepa356.org/event/international-ahepa-day-observance-celebration/
END:VEVENT
BEGIN:VEVENT
DTSTART;TZID=UTC:20260512T190000
DTEND;TZID=UTC:20260512T200000
DTSTAMP:20260422T014551
CREATED:20250508T224154Z
LAST-MODIFIED:20251013T160617Z
UID:25691-1778612400-1778616000@ahepa356.org
SUMMARY:Chapter Meeting
DESCRIPTION:
URL:https://ahepa356.org/event/chapter-meeting-18/
CATEGORIES:Chapter Meeting
END:VEVENT
BEGIN:VEVENT
DTSTART;VALUE=DATE:20260502
DTEND;VALUE=DATE:20260503
DTSTAMP:20260422T014551
CREATED:20260409T214901Z
LAST-MODIFIED:20260409T214901Z
UID:26150-1777680000-1777766399@ahepa356.org
SUMMARY:AHEPA Family of Clearwater “Picnic in the Park”
DESCRIPTION:At Philippe Park – Shelter #7 in Safety Harbor\, FL
URL:https://ahepa356.org/event/ahepa-family-of-clearwater-picnic-in-the-park/
END:VEVENT
BEGIN:VEVENT
DTSTART;TZID=UTC:20260414T190000
DTEND;TZID=UTC:20260414T200000
DTSTAMP:20260422T014551
CREATED:20250508T224108Z
LAST-MODIFIED:20251013T160617Z
UID:25689-1776193200-1776196800@ahepa356.org
SUMMARY:Chapter Meeting
DESCRIPTION:
URL:https://ahepa356.org/event/chapter-meeting-17/
CATEGORIES:Chapter Meeting
END:VEVENT
BEGIN:VEVENT
DTSTART;TZID=UTC:20260310T190000
DTEND;TZID=UTC:20260310T200000
DTSTAMP:20260422T014551
CREATED:20250508T224036Z
LAST-MODIFIED:20251013T160617Z
UID:25687-1773169200-1773172800@ahepa356.org
SUMMARY:Chapter Meeting
DESCRIPTION:
URL:https://ahepa356.org/event/chapter-meeting-16/
CATEGORIES:Chapter Meeting
END:VEVENT
BEGIN:VEVENT
DTSTART;TZID=UTC:20260210T190000
DTEND;TZID=UTC:20260210T200000
DTSTAMP:20260422T014551
CREATED:20250508T224009Z
LAST-MODIFIED:20251013T160618Z
UID:25685-1770750000-1770753600@ahepa356.org
SUMMARY:Chapter Meeting
DESCRIPTION:
URL:https://ahepa356.org/event/chapter-meeting-15/
CATEGORIES:Chapter Meeting
END:VEVENT
BEGIN:VEVENT
DTSTART;TZID=UTC:20260208T110000
DTEND;TZID=UTC:20260208T170000
DTSTAMP:20260422T014551
CREATED:20260112T152355Z
LAST-MODIFIED:20260112T152355Z
UID:26089-1770548400-1770570000@ahepa356.org
SUMMARY:2026 AHEPA 16 “Super Bowl” Golf Tournament
DESCRIPTION:Tarpon Springs Golf Club $75.00 per person \nSunday\, February 8th\, 2026: 11:00 AM – Registration and 12:00 PM – Shotgun Start \n1st Place – 2nd Place – Longest Drive – Closest to the Pin – Putting Contest prior to tee off \nFour-Person Scramble Format \nDinner and awards following golf at the AHEPA Home – 20 W. Tarpon Avenue \nContact:  Michael Pantel @ 727.900.1085
URL:https://ahepa356.org/event/2026-ahepa-16-super-bowl-golf-tournament/
END:VEVENT
BEGIN:VEVENT
DTSTART;TZID=UTC:20260113T190000
DTEND;TZID=UTC:20260113T200000
DTSTAMP:20260422T014551
CREATED:20250508T223936Z
LAST-MODIFIED:20251013T160618Z
UID:25683-1768330800-1768334400@ahepa356.org
SUMMARY:Chapter Meeting
DESCRIPTION:
URL:https://ahepa356.org/event/chapter-meeting-14/
CATEGORIES:Chapter Meeting
END:VEVENT
BEGIN:VEVENT
DTSTART;VALUE=DATE:20251214
DTEND;VALUE=DATE:20251215
DTSTAMP:20260422T014551
CREATED:20251013T160927Z
LAST-MODIFIED:20251013T160927Z
UID:25890-1765670400-1765756799@ahepa356.org
SUMMARY:AHEPA Family of Clearwater Christmas Dinner/Dance
DESCRIPTION:AHEPA Family of Clearwater Christmas Dinner/Dance at the Safety Harbor Resort & Spa.
URL:https://ahepa356.org/event/ahepa-family-of-clearwater-christmas-dinner-dance/
CATEGORIES:Dinner/Dance
END:VEVENT
BEGIN:VEVENT
DTSTART;TZID=UTC:20251209T190000
DTEND;TZID=UTC:20251209T200000
DTSTAMP:20260422T014551
CREATED:20250508T223844Z
LAST-MODIFIED:20251013T160618Z
UID:25681-1765306800-1765310400@ahepa356.org
SUMMARY:Chapter Meeting
DESCRIPTION:
URL:https://ahepa356.org/event/chapter-meeting-13/
CATEGORIES:Chapter Meeting
END:VEVENT
BEGIN:VEVENT
DTSTART;VALUE=DATE:20251125
DTEND;VALUE=DATE:20251126
DTSTAMP:20260422T014551
CREATED:20250913T160634Z
LAST-MODIFIED:20251013T160752Z
UID:25887-1764028800-1764115199@ahepa356.org
SUMMARY:AHEPA Family Social Dinner Country Boy Restaurant
DESCRIPTION:AHEPA Family Social Dinner at the Country Boy Restaurant in Dunedin.
URL:https://ahepa356.org/event/ahepa-family-social-dinner-country-boy-restaurant/
CATEGORIES:Social Dinner
END:VEVENT
BEGIN:VEVENT
DTSTART;TZID=UTC:20251111T190000
DTEND;TZID=UTC:20251111T200000
DTSTAMP:20260422T014551
CREATED:20250508T223808Z
LAST-MODIFIED:20251013T160618Z
UID:25679-1762887600-1762891200@ahepa356.org
SUMMARY:Chapter Meeting
DESCRIPTION:
URL:https://ahepa356.org/event/chapter-meeting-12/
CATEGORIES:Chapter Meeting
END:VEVENT
BEGIN:VEVENT
DTSTART;TZID=UTC:20251028T183000
DTEND;TZID=UTC:20251028T210000
DTSTAMP:20260422T014551
CREATED:20251013T160340Z
LAST-MODIFIED:20251022T170940Z
UID:25885-1761676200-1761685200@ahepa356.org
SUMMARY:AHEPA Family Social Dinner at Sonny’s BBQ
DESCRIPTION:Tuesday\, October 28th\, 2025 @ 6:30pm\, $25.00 per person (all inclusive)\n30503 US Hwy. 19 N. (just north of Curlew Road on the east side) Palm Harbor\, FL  34684\nFor More Information…  Contact John Tsagaris at: 727.420.6624 \n\nDinner Menu:\nIncludes 2 Sidekicks\, Choice of Garlic Bread or Corn Bread\, and a Non-Alcoholic Beverage  \nPlates Salads \n\nPulled or Sliced Pork BBQ SALAD with MEAT  \nSt. Louis Ribs BBQ COBB SALAD with Meat Sweet & Smokey or House Dry-Rubbed \nHalf Chicken \nBeef Brisket \nSliced (Lean) or Chopped (Marbled) \nPulled Chicken \nSmoked Turkey \n\nSidekicks \n\nOriginal Recipe BBQ Beans \nCrinkle-Cut Fries \nHomemade Coleslaw \nGreen Beans \nHomestyle Mac & Cheese \nBaked Sweet Potato \nPotato Salad \nBaked Potato \nBroccoli
URL:https://ahepa356.org/event/ahepa-family-social-dinner-at-sonnys-bbq/
CATEGORIES:Social Dinner
END:VEVENT
BEGIN:VEVENT
DTSTART;TZID=UTC:20251014T190000
DTEND;TZID=UTC:20251014T200000
DTSTAMP:20260422T014551
CREATED:20250508T223726Z
LAST-MODIFIED:20251013T160618Z
UID:25677-1760468400-1760472000@ahepa356.org
SUMMARY:Chapter Meeting
DESCRIPTION:
URL:https://ahepa356.org/event/chapter-meeting-11/
CATEGORIES:Chapter Meeting
END:VEVENT
BEGIN:VEVENT
DTSTART;VALUE=DATE:20251005
DTEND;VALUE=DATE:20251006
DTSTAMP:20260422T014551
CREATED:20250903T165801Z
LAST-MODIFIED:20250903T165801Z
UID:25865-1759622400-1759708799@ahepa356.org
SUMMARY:2025 AHEPA Family of Clearwater Scholarship Golf Tournament
DESCRIPTION:WESTCHASE GOLF CLUB: Each year\, the AHEPA Family of Clearwater sponsors our annual golf tournament to provide assistance to outstanding students in the form of Educational Scholarships. Awards ranging from $1500 to $2000 dollars are distributed each year. This past June\, we awarded $14\,000.00 in scholarships to outstanding students in our community. All net proceeds from the golf tournament will directly fund these scholarships. The Committee thanks you in advance for your support through your golf sponsorship\, or direct donation to AHEPA Chapter 356 Scholarship Fund. Golf sponsorship fee is $100.00 or more. Click Here to Download the Sponsor Form
URL:https://ahepa356.org/event/2025-ahepa-family-of-clearwater-scholarship-golf-tournament/
END:VEVENT
BEGIN:VEVENT
DTSTART;TZID=UTC:20250909T190000
DTEND;TZID=UTC:20250909T200000
DTSTAMP:20260422T014551
CREATED:20250508T223701Z
LAST-MODIFIED:20251013T160618Z
UID:25675-1757444400-1757448000@ahepa356.org
SUMMARY:Chapter Meeting
DESCRIPTION:
URL:https://ahepa356.org/event/chapter-meeting-10/
CATEGORIES:Chapter Meeting
END:VEVENT
BEGIN:VEVENT
DTSTART;VALUE=DATE:20250812
DTEND;VALUE=DATE:20250813
DTSTAMP:20260422T014551
CREATED:20250508T223633Z
LAST-MODIFIED:20250508T223633Z
UID:25673-1754956800-1755043199@ahepa356.org
SUMMARY:No Chapter Meeting
DESCRIPTION:
URL:https://ahepa356.org/event/no-chapter-meeting-2/
END:VEVENT
BEGIN:VEVENT
DTSTART;VALUE=DATE:20250724
DTEND;VALUE=DATE:20250725
DTSTAMP:20260422T014551
CREATED:20250710T182215Z
LAST-MODIFIED:20250710T182215Z
UID:25860-1753315200-1753401599@ahepa356.org
SUMMARY:AHEPA Convention City Golf Tournament
DESCRIPTION:AHEPA Athletics invites you to participate in the AHEPA Convention City Golf Tournament! Join us at Disney’s Palm Golf Course at 8:00am and hit the greens! \nRegistration is $150 per person and must be paid in advance\, by Friday\, July 11th to secure your spot! Download the form below in order to register and return it to admin@ahepa.org as soon as possible! Registration Form Here
URL:https://ahepa356.org/event/ahepa-convention-city-golf-tournament/
END:VEVENT
BEGIN:VEVENT
DTSTART;VALUE=DATE:20250721
DTEND;VALUE=DATE:20250727
DTSTAMP:20260422T014551
CREATED:20250411T135010Z
LAST-MODIFIED:20250411T135010Z
UID:25591-1753056000-1753574399@ahepa356.org
SUMMARY:103rd Supreme Convention
DESCRIPTION:103rd Supreme Convention. At the Walt Disney World Coronado Springs Resort. Click HERE to register.
URL:https://ahepa356.org/event/103rd-supreme-convention/
END:VEVENT
BEGIN:VEVENT
DTSTART;VALUE=DATE:20250708
DTEND;VALUE=DATE:20250709
DTSTAMP:20260422T014551
CREATED:20250508T223558Z
LAST-MODIFIED:20250508T223612Z
UID:25671-1751932800-1752019199@ahepa356.org
SUMMARY:No Chapter Meeting
DESCRIPTION:
URL:https://ahepa356.org/event/no-chapter-meeting/
END:VEVENT
BEGIN:VEVENT
DTSTART;TZID=UTC:20250610T190000
DTEND;TZID=UTC:20250610T200000
DTSTAMP:20260422T014551
CREATED:20250508T223516Z
LAST-MODIFIED:20251013T160618Z
UID:25669-1749582000-1749585600@ahepa356.org
SUMMARY:Chapter Meeting
DESCRIPTION:
URL:https://ahepa356.org/event/chapter-meeting-9/
CATEGORIES:Chapter Meeting
END:VEVENT
BEGIN:VEVENT
DTSTART;VALUE=DATE:20250606
DTEND;VALUE=DATE:20250609
DTSTAMP:20260422T014551
CREATED:20250411T125500Z
LAST-MODIFIED:20250513T193511Z
UID:25589-1749168000-1749427199@ahepa356.org
SUMMARY:2025 AHEPA Family District 2 Convention
DESCRIPTION:2025 AHEPA Family District 2 ConventionHosted by Chapter #18 – West Palm BeachJune 6–8\, 2025
URL:https://ahepa356.org/event/2025-ahepa-family-district-2-convention/
END:VEVENT
BEGIN:VEVENT
DTSTART;VALUE=DATE:20250601
DTEND;VALUE=DATE:20250602
DTSTAMP:20260422T014551
CREATED:20250509T012929Z
LAST-MODIFIED:20250509T012929Z
UID:25699-1748736000-1748822399@ahepa356.org
SUMMARY:Scholarship Awards Banquet
DESCRIPTION:AHEPA Family of Clearwater Scholarship Awards Banquet at Island Way Grill on Clearwater Beach.
URL:https://ahepa356.org/event/scholarship-awards-banquet/
END:VEVENT
BEGIN:VEVENT
DTSTART;VALUE=DATE:20250518
DTEND;VALUE=DATE:20250519
DTSTAMP:20260422T014551
CREATED:20250509T012753Z
LAST-MODIFIED:20250509T012832Z
UID:25695-1747526400-1747612799@ahepa356.org
SUMMARY:AHEPA Day
DESCRIPTION:Holy Trinity Greek Orthodox Church
URL:https://ahepa356.org/event/ahepa-day/
END:VEVENT
BEGIN:VEVENT
DTSTART;TZID=UTC:20250513T190000
DTEND;TZID=UTC:20250513T200000
DTSTAMP:20260422T014551
CREATED:20250508T223341Z
LAST-MODIFIED:20250508T223341Z
UID:25667-1747162800-1747166400@ahepa356.org
SUMMARY:Chapter Meeting
DESCRIPTION:
URL:https://ahepa356.org/event/chapter-meeting-8/
END:VEVENT
BEGIN:VEVENT
DTSTART;VALUE=DATE:20250301
DTEND;VALUE=DATE:20250302
DTSTAMP:20260422T014551
CREATED:20241022T155608Z
LAST-MODIFIED:20241022T160145Z
UID:25494-1740787200-1740873599@ahepa356.org
SUMMARY:DOP Pelias #186 Fashion Show
DESCRIPTION:Save the Date 2025 Luncheon Fashion Show Daughters of Penelope Pelias #186 on Saturday March 1\, 2025 at the Safety Harbor Spa. Fashions by Citrus Styles Dunedin\, FL. Any questions please callDorothy Xanos Luncheon Fashion Show Chairman at (813) 918-1088 [VIEW FLYER]
URL:https://ahepa356.org/event/dop-pelias-186-fashion-show/
END:VEVENT
BEGIN:VEVENT
DTSTART;TZID=UTC:20250209T110000
DTEND;TZID=UTC:20250209T200000
DTSTAMP:20260422T014551
CREATED:20250128T145824Z
LAST-MODIFIED:20250128T145824Z
UID:25585-1739098800-1739131200@ahepa356.org
SUMMARY:AHEPA Chapter 16: 21st Annual Super Bowl Golf Tournament
DESCRIPTION:AHEPA Chapter 16: 21st Annual Super Bowl Golf Tournament. Sunday\, February 9th\, 2025 – 12 Noon Shotgun Start. \nTarpon Springs Golf Club \n\n4 Player Scramble Format\n1st & 2nd Place Team Awards\nRegistration & Putting Contest at 11AM\n5:00PM – Dinner\, Awards and Prizes\n\nAT: AHEPA House – 20 W. Tarpon Ave. Golf and Dinner $ 85.00 Per Person Dinner only $ 20.00 Contact: Michael Pantel 727-461-6220 or mmpjd1@gmail.com
URL:https://ahepa356.org/event/ahepa-chapter-16-21st-annual-super-bowl-golf-tournament/
END:VEVENT
BEGIN:VEVENT
DTSTART;TZID=UTC:20241222T180000
DTEND;TZID=UTC:20241222T230000
DTSTAMP:20260422T014551
CREATED:20241028T230543Z
LAST-MODIFIED:20241028T230652Z
UID:25498-1734890400-1734908400@ahepa356.org
SUMMARY:CHRISTMAS CELEBRATION
DESCRIPTION:The AHEPA Family of Clearwater \nInvites you to a \nCHRISTMAS CELEBRATION [VIEW FLYER] \nSunday\, December 22nd at 6pm\nSafety Harbor Resort & Spa\nCocktail Hour\, Hors d’oeuvres\, Cash Bar \nDinner & Dancing \nMusic by Demetri & the Islanders \nPrepaid Reservations Only. Tickets: $75 per person\nTickets for Sale Sundays in Matheos Hall during Coffee Hour \nOr Call \nFran or Tykie Mastorides at 727-443-0666\,\nAlex Theofanis at 727-288-8474\nKosmas Spiridellis at 917-545-9186\nTom and Elaine White at 386-451-1352\nJohn and Marilou Sambatakos 978-239-4011\nSafety Harbor Resort & Spa\,105 N. Bayshore Drive\, Safety Harbor\, FL
URL:https://ahepa356.org/event/christmas-celebration/
END:VEVENT
BEGIN:VEVENT
DTSTART;TZID=UTC:20241222T180000
DTEND;TZID=UTC:20241222T230000
DTSTAMP:20260422T014551
CREATED:20240522T001048Z
LAST-MODIFIED:20241209T145838Z
UID:25443-1734890400-1734908400@ahepa356.org
SUMMARY:AHEPA Family Christmas Dinner/Dance
DESCRIPTION:The AHEPA Family of Clearwater invites you to a Christmas Celebration on Sunday\, December 22nd at 6 PM at the Safety Harbor Resort & Spa\, featuring a cocktail hour\, hors d’oeuvres\, a cash bar\, dinner\, and dancing with music by Demetri & the Islanders. Prepaid reservations are required\, and tickets are $75 per person. Tickets are available for purchase in Matheos Hall during Coffee Hour or by contacting Fran or Tykie Mastorides at 727-443-0666\, Alex Theofanis at 727-288-8474\, Joseph Teleglou at 727-377-8614\, Nicoleta Apostolopoulos at 727-377-8614\, Tom and Elaine White at 386-451-1352\, or John and Marilou Sambatakos at 978-239-4011. The event will be held at Safety Harbor Resort & Spa\, located at 105 N. Bayshore Drive\, Safety Harbor\, FL. [View Flyer]
URL:https://ahepa356.org/event/ahepa-family-christmas-dinner-dance/
END:VEVENT
BEGIN:VEVENT
DTSTART;TZID=UTC:20241210T190000
DTEND;TZID=UTC:20241210T210000
DTSTAMP:20260422T014551
CREATED:20240522T000945Z
LAST-MODIFIED:20240905T191556Z
UID:25441-1733857200-1733864400@ahepa356.org
SUMMARY:AHEPA "Steve Tsagaris" Chapter 356 Meeting
DESCRIPTION:Papadi Schoolroom @ Holy Trinity GOC
URL:https://ahepa356.org/event/ahepa-steve-tsagaris-chapter-356-meeting-2/
END:VEVENT
END:VCALENDAR